Workbook

Sheet Lookup
A1: Product | B1: Jan | C1: Feb | D1: Mar | E1: Apr | G1: Lookup inputs | I1: Returned value
A2: Notebook | B2: 120 | C2: 135 | D2: 150 | E2: 140 | G2: Pen | H2: Mar | I2: =INDEX($B$2:$E$4,MATCH(G2,$A$2:$A$4,0),MATCH(H2,$B$1:$E$1,0)) -> 110
A3: Pen | B3: 80 | C3: 95 | D3: 110 | E3: 105
A4: Folder | B4: 60 | C4: 72 | D4: 90 | E4: 84 | G4: Product MATCH position | H4: =MATCH(G2,$A$2:$A$4,0) -> 2
G5: Month MATCH position | H5: =MATCH(H2,$B$1:$E$1,0) -> 3
G7: Formula | H7: =INDEX($B$2:$E$4,MATCH(G2,$A$2:$A$4,0),MATCH(H2,$B$1:$E$1,0))

Sheet Checks
A1: Product | B1: Month | C1: Expected | D1: INDEX/MATCH/MATCH | E1: XLOOKUP | F1: INDEX check | G1: XLOOKUP check
A2: Notebook | B2: Jan | C2: 120 | D2: =INDEX(Lookup!$B$2:$E$4,MATCH(A2,Lookup!$A$2:$A$4,0),MATCH(B2,Lookup!$B$1:$E$1,0)) -> 120 | E2: =_xlfn.XLOOKUP(A2,Lookup!$A$2:$A$4,_xlfn.XLOOKUP(B2,Lookup!$B$1:$E$1,Lookup!$B$2:$E$4)) -> 120 | F2: =IF(D2=C2,"PASS","CHECK") -> PASS | G2: =IF(E2=C2,"PASS","CHECK") -> PASS
A3: Notebook | B3: Feb | C3: 135 | D3: =INDEX(Lookup!$B$2:$E$4,MATCH(A3,Lookup!$A$2:$A$4,0),MATCH(B3,Lookup!$B$1:$E$1,0)) -> 135 | E3: =_xlfn.XLOOKUP(A3,Lookup!$A$2:$A$4,_xlfn.XLOOKUP(B3,Lookup!$B$1:$E$1,Lookup!$B$2:$E$4)) -> 135 | F3: =IF(D3=C3,"PASS","CHECK") -> PASS | G3: =IF(E3=C3,"PASS","CHECK") -> PASS
A4: Notebook | B4: Mar | C4: 150 | D4: =INDEX(Lookup!$B$2:$E$4,MATCH(A4,Lookup!$A$2:$A$4,0),MATCH(B4,Lookup!$B$1:$E$1,0)) -> 150 | E4: =_xlfn.XLOOKUP(A4,Lookup!$A$2:$A$4,_xlfn.XLOOKUP(B4,Lookup!$B$1:$E$1,Lookup!$B$2:$E$4)) -> 150 | F4: =IF(D4=C4,"PASS","CHECK") -> PASS | G4: =IF(E4=C4,"PASS","CHECK") -> PASS
A5: Notebook | B5: Apr | C5: 140 | D5: =INDEX(Lookup!$B$2:$E$4,MATCH(A5,Lookup!$A$2:$A$4,0),MATCH(B5,Lookup!$B$1:$E$1,0)) -> 140 | E5: =_xlfn.XLOOKUP(A5,Lookup!$A$2:$A$4,_xlfn.XLOOKUP(B5,Lookup!$B$1:$E$1,Lookup!$B$2:$E$4)) -> 140 | F5: =IF(D5=C5,"PASS","CHECK") -> PASS | G5: =IF(E5=C5,"PASS","CHECK") -> PASS
A6: Pen | B6: Jan | C6: 80 | D6: =INDEX(Lookup!$B$2:$E$4,MATCH(A6,Lookup!$A$2:$A$4,0),MATCH(B6,Lookup!$B$1:$E$1,0)) -> 80 | E6: =_xlfn.XLOOKUP(A6,Lookup!$A$2:$A$4,_xlfn.XLOOKUP(B6,Lookup!$B$1:$E$1,Lookup!$B$2:$E$4)) -> 80 | F6: =IF(D6=C6,"PASS","CHECK") -> PASS | G6: =IF(E6=C6,"PASS","CHECK") -> PASS
A7: Pen | B7: Feb | C7: 95 | D7: =INDEX(Lookup!$B$2:$E$4,MATCH(A7,Lookup!$A$2:$A$4,0),MATCH(B7,Lookup!$B$1:$E$1,0)) -> 95 | E7: =_xlfn.XLOOKUP(A7,Lookup!$A$2:$A$4,_xlfn.XLOOKUP(B7,Lookup!$B$1:$E$1,Lookup!$B$2:$E$4)) -> 95 | F7: =IF(D7=C7,"PASS","CHECK") -> PASS | G7: =IF(E7=C7,"PASS","CHECK") -> PASS
A8: Pen | B8: Mar | C8: 110 | D8: =INDEX(Lookup!$B$2:$E$4,MATCH(A8,Lookup!$A$2:$A$4,0),MATCH(B8,Lookup!$B$1:$E$1,0)) -> 110 | E8: =_xlfn.XLOOKUP(A8,Lookup!$A$2:$A$4,_xlfn.XLOOKUP(B8,Lookup!$B$1:$E$1,Lookup!$B$2:$E$4)) -> 110 | F8: =IF(D8=C8,"PASS","CHECK") -> PASS | G8: =IF(E8=C8,"PASS","CHECK") -> PASS
A9: Pen | B9: Apr | C9: 105 | D9: =INDEX(Lookup!$B$2:$E$4,MATCH(A9,Lookup!$A$2:$A$4,0),MATCH(B9,Lookup!$B$1:$E$1,0)) -> 105 | E9: =_xlfn.XLOOKUP(A9,Lookup!$A$2:$A$4,_xlfn.XLOOKUP(B9,Lookup!$B$1:$E$1,Lookup!$B$2:$E$4)) -> 105 | F9: =IF(D9=C9,"PASS","CHECK") -> PASS | G9: =IF(E9=C9,"PASS","CHECK") -> PASS
A10: Folder | B10: Jan | C10: 60 | D10: =INDEX(Lookup!$B$2:$E$4,MATCH(A10,Lookup!$A$2:$A$4,0),MATCH(B10,Lookup!$B$1:$E$1,0)) -> 60 | E10: =_xlfn.XLOOKUP(A10,Lookup!$A$2:$A$4,_xlfn.XLOOKUP(B10,Lookup!$B$1:$E$1,Lookup!$B$2:$E$4)) -> 60 | F10: =IF(D10=C10,"PASS","CHECK") -> PASS | G10: =IF(E10=C10,"PASS","CHECK") -> PASS
A11: Folder | B11: Feb | C11: 72 | D11: =INDEX(Lookup!$B$2:$E$4,MATCH(A11,Lookup!$A$2:$A$4,0),MATCH(B11,Lookup!$B$1:$E$1,0)) -> 72 | E11: =_xlfn.XLOOKUP(A11,Lookup!$A$2:$A$4,_xlfn.XLOOKUP(B11,Lookup!$B$1:$E$1,Lookup!$B$2:$E$4)) -> 72 | F11: =IF(D11=C11,"PASS","CHECK") -> PASS | G11: =IF(E11=C11,"PASS","CHECK") -> PASS
A12: Folder | B12: Mar | C12: 90 | D12: =INDEX(Lookup!$B$2:$E$4,MATCH(A12,Lookup!$A$2:$A$4,0),MATCH(B12,Lookup!$B$1:$E$1,0)) -> 90 | E12: =_xlfn.XLOOKUP(A12,Lookup!$A$2:$A$4,_xlfn.XLOOKUP(B12,Lookup!$B$1:$E$1,Lookup!$B$2:$E$4)) -> 90 | F12: =IF(D12=C12,"PASS","CHECK") -> PASS | G12: =IF(E12=C12,"PASS","CHECK") -> PASS
A13: Folder | B13: Apr | C13: 84 | D13: =INDEX(Lookup!$B$2:$E$4,MATCH(A13,Lookup!$A$2:$A$4,0),MATCH(B13,Lookup!$B$1:$E$1,0)) -> 84 | E13: =_xlfn.XLOOKUP(A13,Lookup!$A$2:$A$4,_xlfn.XLOOKUP(B13,Lookup!$B$1:$E$1,Lookup!$B$2:$E$4)) -> 84 | F13: =IF(D13=C13,"PASS","CHECK") -> PASS | G13: =IF(E13=C13,"PASS","CHECK") -> PASS
A16: Reordered-label check
A17: Expected (Folder / Apr) | B17: 84 | C17: Lookup with reversed row order | D17: =INDEX($H$20:$K$22,MATCH("Folder",$G$20:$G$22,0),MATCH("Apr",$H$19:$K$19,0)) -> 84 | E17: =IF(D17=B17,"PASS","CHECK") -> PASS
G19: Product | H19: Apr | I19: Mar | J19: Feb | K19: Jan
G20: Folder | H20: 84 | I20: 90 | J20: 72 | K20: 60
G21: Pen | H21: 105 | I21: 110 | J21: 95 | K21: 80
G22: Notebook | H22: 140 | I22: 150 | J22: 135 | K22: 120

Sheet Notes
A1: Workbook notes
A3: Source article | B3: https://excelsemipro.com/index-match-match-in-excel
A4: Example data | B4: Generic sample values created for this tutorial; the month headers Jan–Apr are text.
A5: Lookup assumptions | B5: Product labels and month headers are unique. MATCH uses exact match type 0.
A6: Missing product or month | B6: Either MATCH returns #N/A when a key is absent. Check the spelling, spaces, data type, and lookup range. This workbook documents the diagnosis without storing an unhandled error.
A7: Date-looking month labels | B7: A cell displayed as Mar may contain a real Excel date serial formatted as mmm. A text value Mar will not exactly match that date serial; check the underlying value and use consistent header/input types.
A8: Recalculation check | B8: The Checks sheet compares all 12 source combinations to fixed expected values. Change a source value and recalculate/reopen in Excel to confirm dependent formulas update.
A9: Compatibility | B9: The INDEX/MATCH/MATCH example uses long-standing functions. The XLOOKUP comparison needs an Excel version that supports XLOOKUP.
